BEGIN:VCALENDAR
VERSION:2.0
PRODID:-//Pro Regio Huttwil//NONSGML kigkonsult.se iCalcreator 2.16.12//
METHOD:PUBLISH
X-MS-OLK-FORCEINSPECTOROPEN:TRUE
BEGIN:VEVENT
UID:20260422T123532CEST-5064jULuu2@Pro Regio Huttwil
DTSTAMP:20260422T103532Z
DESCRIPTION:TOBI GMÜR  Sincerely\, T. Gmür VÖ: 6. März 2015\, Label: Limmat
  Records \n\nDer Luzerner Musiker Tobi Gmür ist zurück. Allerdings mit sei
 nem ersten verheissungvollen Mundart Album „Sincerely\, T. Gmür“\, welches
  mit wunderschöne Balladen und Melodien da- her kommt. Als Tobi Gmür mit 1
 3 Jahren seine Band Mothers Pride gründete\, musste Englisch gesungen werd
 en. Nur die Beatles\, die Stray Cats\, Maniacs machten zu dieser Zeit für 
 ihn richtige Rockmusik. Authentische Mundart-Lieder zu texten und zu singe
 n war nie ein Teil seiner Überlegungen. Das traute er auch nur ganz wenige
 n Musikern zu. Bis Tobi Gmür eine Versi- on von Jack Stoikers „Herbscht i 
 de Alpe“ einspielte\, sowie für die „Open Minded Riot Crew“ (eine Band aus
  dem Umfeld der Luzerner Fanszene) einige Lieder in Mundart ein- sang. Tob
 i Gmür bemerkte\, dass er das gerne machte und so begann er\, sich der Her
 ausfor- derung zu stellen und schrieb seine erste Texte und Lieder im Dial
 ekt.  Der Grat ist schmal\, schnell tönt eine ehrlich gemeinte Zeile nach 
  Allerwelts-Poesie\, nahe beim Schlager. Jedes Wort\, jede Zeile erfordert
  noch mehr Arbeit als bei den englischen Tex- ten. (Tobi Gmür)   Doch Tobi
  Gmür hat seine Singsprache gefunden. Nun erscheint am 6. März 2015 über L
 IMMAT Records seine ersten Mundart Album.\n\nFür die musikalische Umsetzun
 g der Songs arbeite Tobi Gmür mit folgenden Menschen:\nJames Dale (Goldhea
 rt Assembly): Rafi Woll (William White u.v.a.): Drums\, Backing Vocals Säm
 i Gallati (Mothers Pride u.a.): Kuno Studer (Monotales): Mix\, Co-Producer
 \, Harmony Vocals\, Bass\, Keys Guitars\, Backing Vocals Guitars\, Backing
  Vocals   „Siidhang“ Dani Wallimann: Klarinette\, André Wallimann: Klarine
 tte\, Michi Wallimann: Schwyzerörgeli  Kari Wallimann:  Bass\, Hugo Barmet
 tler: Schwyzerörgeli Tobi Gmür ist des weiteren Mitglied bei folgenden For
 mationen: Mothers Pride (seit 1988)\, Open Minded Riot Crew (seit 2009) Fü
 r Fragen und weitere Informationen: Limmat Records\, Alexandra Steinegger\
 , 044 271 29 59\, alexandra.steinegger@limmatrecords.ch\n\nEinlass  20:00
 \n \nEintritt 20.-
DTSTART:20151107T190000
DTEND:20151107T230000
LOCATION:Improvisorium
ORGANIZER:MAILTO:Pro Regio Huttwil <info@regio-huttwil.ch>
SUMMARY:Tobi Gmuer
END:VEVENT
END:VCALENDAR
