BEGIN:VCALENDAR
VERSION:2.0
PRODID:-//Pro Regio Huttwil//NONSGML kigkonsult.se iCalcreator 2.16.12//
METHOD:PUBLISH
X-MS-OLK-FORCEINSPECTOROPEN:TRUE
BEGIN:VEVENT
UID:20260422T113957CEST-8431arZ10F@Pro Regio Huttwil
DTSTAMP:20260422T093957Z
DESCRIPTION:
DTSTART:20151106T191500
DTEND:20151106T220000
LOCATION:Kellerbistro Alte Mühle
ORGANIZER:MAILTO:Pro Regio Huttwil <info@regio-huttwil.ch>
SUMMARY:Konzert Kellerbistro Rämschfädra Swiss Folk
END:VEVENT
END:VCALENDAR
