BEGIN:VCALENDAR
VERSION:2.0
PRODID:-//Pro Regio Huttwil//NONSGML kigkonsult.se iCalcreator 2.16.12//
METHOD:PUBLISH
X-MS-OLK-FORCEINSPECTOROPEN:TRUE
BEGIN:VEVENT
UID:20260420T120135CEST-7745FVNI7o@Pro Regio Huttwil
DTSTAMP:20260420T100135Z
DESCRIPTION:
DTSTART:20151103T120000
DTEND:20151103T143000
LOCATION:Vereinshaus EGW
ORGANIZER:MAILTO:Pro Regio Huttwil <info@regio-huttwil.ch>
SUMMARY:Gemeinschaftsnachmittag
END:VEVENT
END:VCALENDAR
