BEGIN:VCALENDAR
VERSION:2.0
PRODID:-//Pro Regio Huttwil//NONSGML kigkonsult.se iCalcreator 2.16.12//
METHOD:PUBLISH
X-MS-OLK-FORCEINSPECTOROPEN:TRUE
BEGIN:VEVENT
UID:20260420T115954CEST-4993PidbkA@Pro Regio Huttwil
DTSTAMP:20260420T095954Z
DESCRIPTION:Bistro offen ab 19.30 Uhr
DTSTART:20151030T190000
DTEND:20151030T220000
LOCATION:Kellerbistro Alte Mühle
ORGANIZER:MAILTO:Pro Regio Huttwil <info@regio-huttwil.ch>
SUMMARY:Filmspur Alte Mühle Huttwil Film Der Kreis
END:VEVENT
END:VCALENDAR
