BEGIN:VCALENDAR
VERSION:2.0
PRODID:-//Pro Regio Huttwil//NONSGML kigkonsult.se iCalcreator 2.16.12//
METHOD:PUBLISH
X-MS-OLK-FORCEINSPECTOROPEN:TRUE
BEGIN:VEVENT
UID:20260422T104114CEST-6221WC950a@Pro Regio Huttwil
DTSTAMP:20260422T084114Z
DESCRIPTION:
DTSTART:20151030T170000
DTEND:20151030T213000
LOCATION:MZH
ORGANIZER:MAILTO:Pro Regio Huttwil <info@regio-huttwil.ch>
SUMMARY:Meisterschaftsspiel
END:VEVENT
END:VCALENDAR
