BEGIN:VCALENDAR
VERSION:2.0
PRODID:-//Pro Regio Huttwil//NONSGML kigkonsult.se iCalcreator 2.16.12//
METHOD:PUBLISH
X-MS-OLK-FORCEINSPECTOROPEN:TRUE
BEGIN:VEVENT
UID:20260420T120001CEST-5110CJHtnU@Pro Regio Huttwil
DTSTAMP:20260420T100001Z
DESCRIPTION:Ja! Es isch super toll wider sowit! Dr Punkrock Marathon geit i
 di dritti super toll Voliume III !!!\nWeisch so mit Seemannsgarn und so mi
 t KaButt und so mit Harlekin und so weisch\, haut supertoll wider supertol
 l mau!!!\nund ja\n19.30 ghö d Schlöisse uf!!\nund so um die 20.00-20-45 ir
 gendwenn würd de so die ersti band spile ca. auso ja ds program wird de no
  chly detailierter bekannt ghä. Weisch eifach e chly speter. Aber das isch
  ja ou no nid so schlimm. Wichtig isch eifach dassde verbi chunsch. und es
  supertoll Fest drus machsch... und so.. weisch.. Mann!!\neh ja.. i däm si
 nn.. bis näeret!!\nAdie!!!\nDie Herren Harlekinen\n\nTüröffnung 19 Uhr 30
 \n\nEintritt 10.-
DTSTART:20151024T193000
DTEND:20151025T000000
LOCATION:Improvisorium
ORGANIZER:MAILTO:Pro Regio Huttwil <info@regio-huttwil.ch>
SUMMARY:Punk Rock Marathon Vol.3
END:VEVENT
END:VCALENDAR
