BEGIN:VCALENDAR
VERSION:2.0
PRODID:-//Pro Regio Huttwil//NONSGML kigkonsult.se iCalcreator 2.16.12//
METHOD:PUBLISH
X-MS-OLK-FORCEINSPECTOROPEN:TRUE
BEGIN:VEVENT
UID:20260422T121746CEST-1862etKUPm@Pro Regio Huttwil
DTSTAMP:20260422T101746Z
DESCRIPTION:
DTSTART:20151024T000000
DTEND:20151024T235900
LOCATION:Spycher Handwerk
ORGANIZER:MAILTO:Pro Regio Huttwil <info@regio-huttwil.ch>
SUMMARY:Schafschur Huttwil
END:VEVENT
END:VCALENDAR
