BEGIN:VCALENDAR
VERSION:2.0
PRODID:-//Pro Regio Huttwil//NONSGML kigkonsult.se iCalcreator 2.16.12//
METHOD:PUBLISH
X-MS-OLK-FORCEINSPECTOROPEN:TRUE
BEGIN:VEVENT
UID:20260420T120149CEST-46781v8VzH@Pro Regio Huttwil
DTSTAMP:20260420T100149Z
DESCRIPTION:Die Vorführungen finden statt: Dienstag\, 20. Oktober 2015\, 20
 .00 Uhr & Mittwoch\, 21. Oktober 2015\, 15.00 Uhr\n\nVorhang auf in Ihrem 
 Circus Nock!\nBereits zum 155. Mal ist der älteste Schweizer Zirkus auf se
 iner Tournée.\nDie 7. Nock-Generation weiss auch dieses Jahr das Publikum 
 mit artistischen Hochleistungen\, liebevoll choreographierten Tier- und br
 illanten Clownnummern zu verzaubern und in eine Welt voller Magie zu entfü
 hren. Seien Sie bei der diesjährigen Tournée „Magic World“ mit dabei. Herz
 lich willkommen in Ihrem Circus Nock. Gönnen Sie sich einen Abend lang vol
 ler Magie und tauchen Sie mit uns ein.
DTSTART:20151020T130000
DTEND:20151020T130000
LOCATION:Ribimatte
ORGANIZER:MAILTO:Pro Regio Huttwil <info@regio-huttwil.ch>
SUMMARY:Circus Nock
END:VEVENT
END:VCALENDAR
