BEGIN:VCALENDAR
VERSION:2.0
PRODID:-//Pro Regio Huttwil//NONSGML kigkonsult.se iCalcreator 2.16.12//
METHOD:PUBLISH
X-MS-OLK-FORCEINSPECTOROPEN:TRUE
BEGIN:VEVENT
UID:20260420T120009CEST-4903r6MU9u@Pro Regio Huttwil
DTSTAMP:20260420T100009Z
DESCRIPTION:...improvised music to travel into space!\nMike Häfliger\, Paul
 _Pott\, Dirk Jan Müller und Dirk Bittner sind 2010 auf dem Herzberg-Festiv
 al bei einer Jam-Session im Höllenschuppen musikalisch fusioniert und seit
 dem unter dem Namen SPACE INVADERS unterwegs. Im Sinne des Psychedelic-Spa
 cerock wurden Sessions mit Veteranen wie Damo Suzuki (CAN) und Mani Neumei
 er (GURU GURU) im OXX/Zofingen zelebriert. Zu einem weiteren Konzert in de
 r Schweiz\, diesmal im Planet Z\, half Dennis Gockel an den Drums aus. Die
 ses richtungsweisende Konzert ist nun für die vorliegende CD/LP 'Invasion 
 on Planet Z' verwendet worden. Im StudioFleisch gemischt\, und durch die A
 rtwork-Garage von Weltraum-Records gezogen\, hat die Band dieses Bollwerk 
 der Improvisation selbst produziert\, letztlich dem Berliner Label Nasoni 
 in die Hände gespielt\, und damit natürlich offene Türen eingerannt. Mehre
 re Auftritte und Sessions auf dem Herzberg-Festival 2013 hat die Band genu
 tzt um ihr Debüt unter die Hippies zu bringen\, die diesen einerseits fris
 chen aber altbekannten Sound frenetisch feierten.
DTSTART:20151017T200000
DTEND:20151017T200000
LOCATION:Improvisorium
ORGANIZER:MAILTO:Pro Regio Huttwil <info@regio-huttwil.ch>
SUMMARY:Space Invaders
END:VEVENT
END:VCALENDAR
