BEGIN:VCALENDAR
VERSION:2.0
PRODID:-//Pro Regio Huttwil//NONSGML kigkonsult.se iCalcreator 2.16.12//
METHOD:PUBLISH
X-MS-OLK-FORCEINSPECTOROPEN:TRUE
BEGIN:VEVENT
UID:20260422T121641CEST-8577gubWMI@Pro Regio Huttwil
DTSTAMP:20260422T101641Z
DESCRIPTION:
DTSTART:20151017T130000
DTEND:20151017T170000
LOCATION:Malerei Mühlematte
ORGANIZER:MAILTO:Pro Regio Huttwil <info@regio-huttwil.ch>
SUMMARY:Kürbisfest
END:VEVENT
END:VCALENDAR
