BEGIN:VCALENDAR
VERSION:2.0
PRODID:-//Pro Regio Huttwil//NONSGML kigkonsult.se iCalcreator 2.16.12//
METHOD:PUBLISH
X-MS-OLK-FORCEINSPECTOROPEN:TRUE
BEGIN:VEVENT
UID:20260422T123528CEST-9410mh442x@Pro Regio Huttwil
DTSTAMP:20260422T103528Z
DESCRIPTION:Hazel Brugger Tryout: „Hazel Brugger passiert“ / Cabaret / 1. S
 oloprogramm\nDass es toll ist im Kellerbistro hat sich in der Cabaret Szen
 e herumgesprochen – gleich zwei Tryouts bekannter Kabarettisten haben wir 
 diese Saison zu Gast! Den Start macht Hazel Brugger mit ihrem ersten abend
 füllenden Programm – Hazel Brugger ist Schweizermeisterin im Poetry Slam\,
  schreibt eine Kolumne im „Das Magazin“ und tritt regelmässig in Radio und
  TV auf – wir fühlen uns gebauchpinselt und sind gespannt!\nBistro offen a
 b 19.30
DTSTART:20151016T200000
DTEND:20151016T230000
LOCATION:Kellerbistro Alte Mühle
ORGANIZER:MAILTO:Pro Regio Huttwil <info@regio-huttwil.ch>
SUMMARY:Cabaret Kellerbistro Hazel Brugger Tryout
END:VEVENT
END:VCALENDAR
