BEGIN:VCALENDAR
VERSION:2.0
PRODID:-//Pro Regio Huttwil//NONSGML kigkonsult.se iCalcreator 2.16.12//
METHOD:PUBLISH
X-MS-OLK-FORCEINSPECTOROPEN:TRUE
BEGIN:VEVENT
UID:20260424T115326CEST-8357oaUi3O@Pro Regio Huttwil
DTSTAMP:20260424T095326Z
DESCRIPTION:
DTSTART:20151016T190000
DTEND:20151016T220000
LOCATION:Turnhalle
ORGANIZER:MAILTO:Pro Regio Huttwil <info@regio-huttwil.ch>
SUMMARY:Nothilfekurs
END:VEVENT
END:VCALENDAR
