BEGIN:VCALENDAR
VERSION:2.0
PRODID:-//Pro Regio Huttwil//NONSGML kigkonsult.se iCalcreator 2.16.12//
METHOD:PUBLISH
X-MS-OLK-FORCEINSPECTOROPEN:TRUE
BEGIN:VEVENT
UID:20260422T121642CEST-288417wbpR@Pro Regio Huttwil
DTSTAMP:20260422T101642Z
DESCRIPTION:DUALITY OF MIND heisst soviel wie „Schizophrenie“ oder „Zwiespa
 lt“ und bringt die Sache beim gleichnamigen Quintett ziemlich genau auf de
 n Punkt: Ihre musikalischen Wurzeln liegen im modernen Metal und Hardcore\
 , doch scheut sich die Band nicht\, Melodien und elektronische Einsprengse
 l ins Rockgerüst einzubauen.\n Das Debutalbum „FROZEN TIMES“ wiederspiegel
 t das facettenreiche\, musikalische Universum von DUALITY OF MIND. Die Kom
 bination aus treibenden Strophen und\n eingängigen Melodien im Refrain ist
  das eigentliche Trademark der Band. Diese Mischung trifft ganz offensicht
 lich den Nerv einer rasch wachsenden Fangemeinde.\n Auch DRS3 HITPARADEN-M
 oderator Nik Thomi outete sich jüngst als DUALITY OF MIND-Fan. Kurzerhand 
 erkor er „PSYCHO RHYMES“ zum „Song der Woche“ seiner VIRUS-Sendung „PLAY T
 HE LIST“. Sein Statement: „PSYCHO RHYMES ist ja ganz gross!“\n\nDass es be
 i DUALITY OF MIND nicht nur auf dem Album heftig abgeht\, sondern auch auf
  der Bühne\, konnten die fünf zu Genüge unter Beweis stellen. Nach dem Gew
 inn des nationalen Newcomer-Wettbewerbs für‘s FREESTYLE.CH 2008\, wo sich 
 die Band gegen über 170 Mitbewerber durchsetzte\, wurden 2009 die Bühnen z
 ahlreicher Open Airs und Clubs gerockt. Eine ganz andere Seite zeigte DUAL
 ITY OF MIND am Finale 2009 des renommierten „ACOUSTIC SONG CONTEST“. Die z
 wei präsentierten Songs\, natürlich akustisch umgesetzt und verfeinert von
  einer Streicher-Section\, überzeugten Publikum und Jury und verhalfen der
  Band zum unerwarteten 4. Platz.\n\n Doch keine Angst\, mit einem Abdrifte
 n in seichtere musikalische Gefilde ist nicht zu rechnen. Auf ihrer neuen 
 EP\, welche im Frühling 2010 erscheint\, besinnt sich die Band nun wieder 
 auf ihre eigentlichen Qualitäten und präsentiert eine Handvoll neue\, fris
 che Kracher. Als Zückerli dazu serviert DUALITY OF MIND eine Coverversion 
 des DEPECHE MODE Klassikers „A QUESTION OF TIME“\n – Crossover im wahrsten
  Sinne des Wortes.\nTüren 20 Uhr\n\n 
DTSTART:20151010T203000
DTEND:20151010T230000
LOCATION:Improvisorium
ORGANIZER:MAILTO:Pro Regio Huttwil <info@regio-huttwil.ch>
SUMMARY:Duality of Mind
END:VEVENT
END:VCALENDAR
