BEGIN:VCALENDAR
VERSION:2.0
PRODID:-//Pro Regio Huttwil//NONSGML kigkonsult.se iCalcreator 2.16.12//
METHOD:PUBLISH
X-MS-OLK-FORCEINSPECTOROPEN:TRUE
BEGIN:VEVENT
UID:20260422T140611CEST-7603o7ZUce@Pro Regio Huttwil
DTSTAMP:20260422T120611Z
DESCRIPTION:
DTSTART:20151003T000000
DTEND:20151003T235900
LOCATION:Huttwil
ORGANIZER:MAILTO:Pro Regio Huttwil <info@regio-huttwil.ch>
SUMMARY:Schweizer Käsemarkt Huttwil
END:VEVENT
END:VCALENDAR
