BEGIN:VCALENDAR
VERSION:2.0
PRODID:-//Pro Regio Huttwil//NONSGML kigkonsult.se iCalcreator 2.16.12//
METHOD:PUBLISH
X-MS-OLK-FORCEINSPECTOROPEN:TRUE
BEGIN:VEVENT
UID:20260422T124329CEST-5925jp6BJa@Pro Regio Huttwil
DTSTAMP:20260422T104329Z
DESCRIPTION:
DTSTART:20151003T000000
DTEND:20151003T235900
LOCATION:Hotel kleiner Prinz
ORGANIZER:MAILTO:Pro Regio Huttwil <info@regio-huttwil.ch>
SUMMARY:Huttwiler Brocante
END:VEVENT
END:VCALENDAR
