BEGIN:VCALENDAR
VERSION:2.0
PRODID:-//Pro Regio Huttwil//NONSGML kigkonsult.se iCalcreator 2.16.12//
METHOD:PUBLISH
X-MS-OLK-FORCEINSPECTOROPEN:TRUE
BEGIN:VEVENT
UID:20260422T121609CEST-62118jX5XC@Pro Regio Huttwil
DTSTAMP:20260422T101609Z
DESCRIPTION:
DTSTART:20150925T000000
DTEND:20150927T235900
LOCATION:Schulareal Eriswil
ORGANIZER:MAILTO:Pro Regio Huttwil <info@regio-huttwil.ch>
SUMMARY:Gewerbeausstellung
END:VEVENT
END:VCALENDAR
