BEGIN:VCALENDAR
VERSION:2.0
PRODID:-//Pro Regio Huttwil//NONSGML kigkonsult.se iCalcreator 2.16.12//
METHOD:PUBLISH
X-MS-OLK-FORCEINSPECTOROPEN:TRUE
BEGIN:VEVENT
UID:20260422T123356CEST-9493CmCEwX@Pro Regio Huttwil
DTSTAMP:20260422T103356Z
DESCRIPTION:
DTSTART:20150916T200000
DTEND:20150916T210000
LOCATION:Ref. Kirchgemeindehaus\, grosser Saal 2. OG
ORGANIZER:MAILTO:Pro Regio Huttwil <info@regio-huttwil.ch>
SUMMARY:Depressionen- eine Krankheit mit vielen Gesichtern
END:VEVENT
END:VCALENDAR
