BEGIN:VCALENDAR
VERSION:2.0
PRODID:-//Pro Regio Huttwil//NONSGML kigkonsult.se iCalcreator 2.16.12//
METHOD:PUBLISH
X-MS-OLK-FORCEINSPECTOROPEN:TRUE
BEGIN:VEVENT
UID:20260422T123331CEST-347389NuWH@Pro Regio Huttwil
DTSTAMP:20260422T103331Z
DESCRIPTION:
DTSTART:20150915T000000
DTEND:20150915T235900
LOCATION:MZH/Tagungsraum
ORGANIZER:MAILTO:Pro Regio Huttwil <info@regio-huttwil.ch>
SUMMARY:Blutspenden
END:VEVENT
END:VCALENDAR
