BEGIN:VCALENDAR
VERSION:2.0
PRODID:-//Pro Regio Huttwil//NONSGML kigkonsult.se iCalcreator 2.16.12//
METHOD:PUBLISH
X-MS-OLK-FORCEINSPECTOROPEN:TRUE
BEGIN:VEVENT
UID:20260422T123356CEST-6014iZzfvA@Pro Regio Huttwil
DTSTAMP:20260422T103356Z
DESCRIPTION:
DTSTART:20150912T190000
DTEND:20150912T210000
LOCATION:Ref. Kirche Huttwil
ORGANIZER:MAILTO:Pro Regio Huttwil <info@regio-huttwil.ch>
SUMMARY:Sinfoniekonzert Huttwiler Kammerorchester unter dem Motto Réflexion
 s
END:VEVENT
END:VCALENDAR
