BEGIN:VCALENDAR
VERSION:2.0
PRODID:-//Pro Regio Huttwil//NONSGML kigkonsult.se iCalcreator 2.16.12//
METHOD:PUBLISH
X-MS-OLK-FORCEINSPECTOROPEN:TRUE
BEGIN:VEVENT
UID:20260422T121426CEST-8712u8OnbC@Pro Regio Huttwil
DTSTAMP:20260422T101426Z
DESCRIPTION:
DTSTART:20150912T000000
DTEND:20150912T235900
LOCATION:Rabiplatz
ORGANIZER:MAILTO:Pro Regio Huttwil <info@regio-huttwil.ch>
SUMMARY:warm-up to slowUp
END:VEVENT
END:VCALENDAR
