BEGIN:VCALENDAR
VERSION:2.0
PRODID:-//Pro Regio Huttwil//NONSGML kigkonsult.se iCalcreator 2.16.12//
METHOD:PUBLISH
X-MS-OLK-FORCEINSPECTOROPEN:TRUE
BEGIN:VEVENT
UID:20260422T121427CEST-75264OeNC8@Pro Regio Huttwil
DTSTAMP:20260422T101427Z
DESCRIPTION:
DTSTART:20150908T000000
DTEND:20150908T235900
LOCATION:Militäressraum in der Turnhalle
ORGANIZER:MAILTO:Pro Regio Huttwil <info@regio-huttwil.ch>
SUMMARY:Blutspenden
END:VEVENT
END:VCALENDAR
