BEGIN:VCALENDAR
VERSION:2.0
PRODID:-//Pro Regio Huttwil//NONSGML kigkonsult.se iCalcreator 2.16.12//
METHOD:PUBLISH
X-MS-OLK-FORCEINSPECTOROPEN:TRUE
BEGIN:VEVENT
UID:20260420T101956CEST-8174JVCE3n@Pro Regio Huttwil
DTSTAMP:20260420T081956Z
DESCRIPTION:
DTSTART:20230527T090000
DTEND:20230527T160000
LOCATION:Huttwil
ORGANIZER:MAILTO:Pro Regio Huttwil <info@regio-huttwil.ch>
SUMMARY:Wein-Degustation Niederhauser Mode AG
END:VEVENT
END:VCALENDAR
