BEGIN:VCALENDAR
VERSION:2.0
PRODID:-//Pro Regio Huttwil//NONSGML kigkonsult.se iCalcreator 2.16.12//
METHOD:PUBLISH
X-MS-OLK-FORCEINSPECTOROPEN:TRUE
BEGIN:VEVENT
UID:20260420T101953CEST-8869N0jV6v@Pro Regio Huttwil
DTSTAMP:20260420T081953Z
DESCRIPTION:Die „Domi Fighters Racing Party“ geht in die nächste Runde.\n\n
 Am Samstag\, 10. Dezember steigt zum 12. Mal die legendäre Domi Fighter’s 
 Racing Party. Macht euch bereit für einen Abend\, der die Highlights verei
 nen wird: ab 18 Uhr starten wir mit einem gemütlichen Grill und Chill\, um
  dann um 21 Uhr ready zu sein für die grosse Party. Nebst verschiedensten 
 Live Acts wird DJ Castle und Tom-s DJ für beste Stimmung sorgen. Und obwoh
 l der Event selber schon für beste Erinnerungen sorgen wird\, ist dennoch 
 auch unser Fanshop wieder vor Ort\, um euch mit Souvenirs und Fanartikeln 
 zu versorgen.Domi wird persönlich vor Ort sein.\n\nWann:\nSamstag\, 10. De
 zember\, ab 18 Uhr Grill & Chill\, 21 Uhr Party bis 03:30\n\nWo:\nCampus P
 erspektiven bei Huttwil Eventhalle Schwarzenbach\, Dörfli 2\, 4953 Schwarz
 enbach b. Huttwil\n\nWer:\nDomi Fighters\, Friends & Family\, Fans\n\nAnre
 ise:\nÖV = Shutteldienst von Bahnhof zum Campus\nAuto = Parkplätze beim Ca
 mpus vorhanden
DTSTART:20221210T180000
DTEND:20221211T050000
LOCATION:Campus Perspektiven
ORGANIZER:MAILTO:Pro Regio Huttwil <info@regio-huttwil.ch>
SUMMARY:Domi Fighter's Party 2022
END:VEVENT
END:VCALENDAR
