BEGIN:VCALENDAR
VERSION:2.0
PRODID:-//Pro Regio Huttwil//NONSGML kigkonsult.se iCalcreator 2.16.12//
METHOD:PUBLISH
X-MS-OLK-FORCEINSPECTOROPEN:TRUE
BEGIN:VEVENT
UID:20260422T105021CEST-5269e8Jspb@Pro Regio Huttwil
DTSTAMP:20260422T085021Z
DESCRIPTION:!!! Weltmeisterfeier !!!\nDie „Domi Fighters Racing Party“ geht
  in die Weltmeister Runde.\nAm Freitag und Samstag\, 3. + 4. Dezember stei
 gt zum 11. Mal die legendäre Domi Fighter’s Racing Party. Macht euch berei
 t für einen Abend\, der die Highlights vereinen wird: ab 18 Uhr starten wi
 r mit einem gemütlichen Grill und Chill\, um dann um 21 Uhr ready zu sein 
 für die grosse Party. Nebst verschiedensten Live Acts wird DJ Ref JD und D
 J ... für beste Stimmung sorgen.\nUnd obwohl der Event selber schon für be
 ste Erinnerungen sorgen wird\, ist dennoch auch unser Fanshop wieder vor O
 rt\, um euch mit Souvenirs und Fanartikeln zu versorgen.\nDomi wird am Fre
 itag persönlich vor Ort sein\, am Samstag gibt es eine Liveübertragung von
  den FIM Awards aus Monaco.\n\nZugang erhalten nur Personen mit einem gült
 igen Covid Zertifikat (Geimpft\, Genesen\, Getestet). Für die Verifizierun
 g deiner Personalien und deinem Covid Zertifikat ist eine ID erforderlich.
 \n\nEs wird ein Testcenter beim Campus Perspektiven geben:\nÖffnungszeiten
 : 19:00-21:00\nKosten: 20.- CHF\nBitte Covid Cert App runterladen damit Ze
 rtifikate direkt übermittelt werden können.\n\nEs besteht auch die Möglich
 keit bei der Praxis Dr. Meli in Huttwil vorher zu testen:\nÖffnungszeiten:
  08:00-17:00\nKosten: 20.- CHF\nAdresse: Schultheissenstrasse 10\, 4950 Hu
 ttwil\nAnmeldung: https://www.facebook.com/events/939337526653345\n\nWann:
 \nFreitag\, 3. Dezember\, 18 Uhr Grill & Chill\, 21 Uhr Party bis 05:00\nS
 amstag\, 4. Dezember\, 18 Uhr Grill & Chill\, 21 Uhr Party bis 03:30\n\nWo
 :\nCampus Perspektiven bei Huttwil\nEventhalle Schwarzenbach\, Dörfli 2\n4
 953 Schwarzenbach b. Huttwil\n\nWer:\nChris Böhm (Freitag)\nDJ ... (Freita
 g)\nDJ Ref JD (Samstag)\nVanity Dancers (Samstag)\nElectric Angels (Freita
 g & Samstag)\nDomi Fighters\, Friends & Family\, Fans (Freitag & Samstag)
 \n\nAnreise:\nÖV = Shutteldienst von Bahnhof zum Campus\nAuto = Parkplätze
  beim Campus vorhanden
DTSTART:20211203T180000
DTEND:20211204T033000
LOCATION:Campus Perspektiven
ORGANIZER:MAILTO:Pro Regio Huttwil <info@regio-huttwil.ch>
SUMMARY:Domi Fighter's Party 2021 Weltmeisterfeier
END:VEVENT
END:VCALENDAR
