BEGIN:VCALENDAR
VERSION:2.0
PRODID:-//Pro Regio Huttwil//NONSGML kigkonsult.se iCalcreator 2.16.12//
METHOD:PUBLISH
X-MS-OLK-FORCEINSPECTOROPEN:TRUE
BEGIN:VEVENT
UID:20260422T104043CEST-16384F0kuM@Pro Regio Huttwil
DTSTAMP:20260422T084043Z
DESCRIPTION:Die Band aus Mainz hat es geschafft\, ihren eigenen Sound um di
 e Ausnahmesängerin Hanne Kah zu finden und zu prägen. Mutig und selbstbewu
 sst etablieren sie das Genre «Outlaw Music» in einer eigenen Klangfarbe. D
 ass die Band internationalem Anspruch gerecht wird\, zeigten Festivalauftr
 itte in Europa\, Kanada\, USA\, Australien und auch die Zusammenarbeit mit
  dem niederländischen Ausnahmemusiker JB Meijers. Als besondere Momente ga
 b es vor grosser Kulisse Heimspiele vor den Hooters sowie Roger Hodgson (e
 x-Supertramp).\nhttps://kellerbistro-huttwil.ch/konzerte/hanne-kah/
DTSTART:20210219T201500
DTEND:20210219T230000
LOCATION:Keller-Bistro Alte Mühle
ORGANIZER:MAILTO:Pro Regio Huttwil <info@regio-huttwil.ch>
SUMMARY:Konzert mit Hanne Kah - ***abgesagt***
END:VEVENT
END:VCALENDAR
