BEGIN:VCALENDAR
VERSION:2.0
PRODID:-//Pro Regio Huttwil//NONSGML kigkonsult.se iCalcreator 2.16.12//
METHOD:PUBLISH
X-MS-OLK-FORCEINSPECTOROPEN:TRUE
BEGIN:VEVENT
UID:20260420T164916CEST-19226PK1m3@Pro Regio Huttwil
DTSTAMP:20260420T144916Z
DESCRIPTION:Auf «Vierti Rundi»\, dem vierten Studioalbum des Värslischmieds
  und Gentleman\, scheut Oli Kehrli mit seinen Mitmusikern kaum eine Heraus
 forderung und steigt furchtlos in den Boxring des Lebens. Mit blauem Auge 
 und einem leicht verschmitzten Lächeln\, pointiert und reich an Mitgefühl 
 für seine Helden\, liefert er sich dem scheinbar Gewöhnlichen sowohl sich 
 selbst als auch seinem Publikum aus. Da gilt es\, die Schicksals- und Rück
 schläge wegzustecken\, Schwächen zu offenbaren\, mit den eigenen Unzulängl
 ichkeiten zu hadern\, aber hie und da auch ordentlich auszuteilen.\nhttps:
 //kellerbistro-huttwil.ch/konzerte/oli-kehrli/
DTSTART:20210205T201500
DTEND:20210205T230000
LOCATION:Keller-Bistro Alte Mühle
ORGANIZER:MAILTO:Pro Regio Huttwil <info@regio-huttwil.ch>
SUMMARY:Chanson mit Oli Kehrli - ***abgesagt***
END:VEVENT
END:VCALENDAR
