BEGIN:VCALENDAR
VERSION:2.0
PRODID:-//Pro Regio Huttwil//NONSGML kigkonsult.se iCalcreator 2.16.12//
METHOD:PUBLISH
X-MS-OLK-FORCEINSPECTOROPEN:TRUE
BEGIN:VEVENT
UID:20260422T104308CEST-62579JKuaD@Pro Regio Huttwil
DTSTAMP:20260422T084308Z
DESCRIPTION:Waffle Machine Orchestra steht für den heissesten Swing-Sound\,
  der die Schweiz je erreichte. Ihr Set ist eine Mixtur aus neuen Eigenkomp
 ositionen und Klassikern der Vergangenheit. Die groovige Rhythm-Section au
 s Kontrabass\, Schlagzeug und Gitarre wird begleitet von einem ammendwürzi
 gen Bläsersatz. Fügt noch eine Prise wilder Soli und kraftvollen Gesangs d
 es Frontsängers hinzu und fertig ist die Waffle-Band. https://kellerbistro
 -huttwil.ch/konzerte/waffle-machine/
DTSTART:20210115T201500
DTEND:20210115T230000
LOCATION:Keller-Bistro Alte Mühle
ORGANIZER:MAILTO:Pro Regio Huttwil <info@regio-huttwil.ch>
SUMMARY:Konzert mit Waffle machine ***abgesagt***
END:VEVENT
END:VCALENDAR
