BEGIN:VCALENDAR
VERSION:2.0
PRODID:-//Pro Regio Huttwil//NONSGML kigkonsult.se iCalcreator 2.16.12//
METHOD:PUBLISH
X-MS-OLK-FORCEINSPECTOROPEN:TRUE
BEGIN:VEVENT
UID:20260420T101741CEST-9044mvVS65@Pro Regio Huttwil
DTSTAMP:20260420T081741Z
DESCRIPTION:Osteuropäische Volksmusik\nIn über 11 Jahren hat die Berner Cha
 nsons-Ostfolk-Truppe ihren ganz eigenen musikalischen Mikrokosmos geschaff
 en. Benannt nach einem serbokroatischen Volkslied\, giesst ZAPJEVALA die L
 iebe für osteuropäische Klänge\, französische Chansons und schweizerdeutsc
 hen Charme in einen grossen Suppentopf und rührt einmal kräftig um! Da ver
 schmelzen traurige Melodien mit feurigen Rhythmen und träumerische Sehnsus
 ucht mit scherzhaften Neckereien. Die Frauenband mit Männerquote\, servier
 t ein musikalisches Menu\, das direkt ins Herz und in die Beine fährt!\nke
 llerbistro-huttwil.ch/konzerte/zapjevala/
DTSTART:20201204T201500
DTEND:20201204T230000
LOCATION:Keller-Bistro Alte Mühle
ORGANIZER:MAILTO:Pro Regio Huttwil <info@regio-huttwil.ch>
SUMMARY:Konzert mit Zapjevala ***abgesagt***
END:VEVENT
END:VCALENDAR
